BEGIN:VCALENDAR
VERSION:2.0
PRODID:-//ChamberMaster//Event Calendar 2.0//EN
METHOD:PUBLISH
X-PUBLISHED-TTL:P3D
REFRESH-INTERVAL:P3D
CALSCALE:GREGORIAN
BEGIN:VEVENT
DTSTART:20200306T003000Z
DTEND:20200306T020000Z
X-MICROSOFT-CDO-ALLDAYEVENT:FALSE
SUMMARY:Chesterton Academy of the Saint Croix Valley Open House
DESCRIPTION:Please join us for an Open House to learn about our integrated\, classical curriculum and meet our faculty\, students\, and parents from 6:30-8:00pm. Light refreshments will be served.
X-ALT-DESC;FMTTYPE=text/html:Please join us for an Open House to learn about our integrated\, classical curriculum and meet our faculty\, students\, and parents from 6:30-8:00pm. Light refreshments will be served.
LOCATION:1835 Northwestern Ave S Stillwater\, MN 55082
UID:e.257.30679
SEQUENCE:3
DTSTAMP:20260422T010414Z
URL:https://greaterstillwaterchamber.com/events/details/chesterton-academy-of-the-saint-croix-valley-open-house-30679
END:VEVENT

END:VCALENDAR
