BEGIN:VCALENDAR
VERSION:2.0
PRODID:-//ChamberMaster//Event Calendar 2.0//EN
METHOD:PUBLISH
X-PUBLISHED-TTL:P3D
REFRESH-INTERVAL:P3D
CALSCALE:GREGORIAN
BEGIN:VEVENT
DTSTART:20241207T163000Z
DTEND:20241207T210000Z
X-MICROSOFT-CDO-ALLDAYEVENT:FALSE
SUMMARY:Cheers with Santa! ~ Charity Photo Event
DESCRIPTION:Santa is coming to Lift Bridge Brewery on Saturday\, December 7 from 10:30 AM - 3 PM! Join us for our annual Cheers With Santa Charity Photo event.\n\nMake memories with your family while giving back to a local non-profit AND taking the little ones to tell Santa their wishes...sounds like Cheers all around!\n\nProfessional Photos taken by Boost Mode Photography by Andi with proceeds going to Valley Friendship Club.\n\nFeatured Food: TBD\n\n\n\nOnly $10 per picture\, and all photos will be emailed directly to you. Enjoy a fresh Beer\, Hard Seltzer\, Slushie\, Bloody Larry or our tasty Root Beer or Sodas!\n\nNo registration required\; just show up at Lift Bridge Brewery between 10:30 AM - 3 PM (Santa gets a break from 12:30-1:00 to feed the reindeer) on Saturday\, December 7.\n\n\n\nMerry Christmas & Cheers!
X-ALT-DESC;FMTTYPE=text/html:<p>Santa&nbsp\;is coming to Lift Bridge Brewery on Saturday\, December 7&nbsp\;from&nbsp\;10:30 AM - 3 PM!&nbsp\;Join us for our annual&nbsp\;Cheers With Santa Charity Photo&nbsp\;event.</p>\n\n<p>Make memories&nbsp\;with your family while&nbsp\;giving back to a local non-profit&nbsp\;AND&nbsp\;taking the little ones to tell&nbsp\;Santa&nbsp\;their wishes...sounds like&nbsp\;Cheers&nbsp\;all around!</p>\n\n<p>Professional Photos taken by&nbsp\;<a href="https://www.facebook.com/boostmodephotography" style="box-sizing: border-box\; background-color: transparent\; text-decoration-line: none\; color: rgb(192\, 49\, 26)\;" target="_blank">Boost Mode Photography by Andi</a>&nbsp\;with proceeds going to&nbsp\;<a href="https://www.facebook.com/ValleyFriendshipClub" style="box-sizing: border-box\; background-color: transparent\; text-decoration-line: none\; color: rgb(192\, 49\, 26)\;" target="_blank"><u><u>V</u></u>alley Friendship Club</a>.</p>\n\n<p>Featured Food:&nbsp\;TBD<br />\n<br />\nOnly $10 per picture\, and all photos will be emailed directly to you.&nbsp\;Enjoy a&nbsp\;fresh Beer\, Hard Seltzer\, Slushie\, Bloody Larry&nbsp\;or our tasty&nbsp\;Root Beer or Sodas!</p>\n\n<p>No registration required\;&nbsp\;just&nbsp\;<u>show up</u>&nbsp\;at Lift Bridge Brewery&nbsp\;<u>between 10:30 AM - 3 PM</u><em>&nbsp\;(Santa&nbsp\;gets a break from 12:30-1:00 to feed the reindeer)</em>&nbsp\;on Saturday\, December 7.<br />\n<br />\nMerry Christmas &amp\; Cheers!</p>\n\n<div>&nbsp\;</div>\n
LOCATION:Lift Bridge Brewing Stillwater\, 1900 Tower Dr W\, Stillwater\, MN 55082\, USA
UID:e.257.38946
SEQUENCE:3
DTSTAMP:20260422T190154Z
URL:https://greaterstillwaterchamber.com/events/details/cheers-with-santa-charity-photo-event-38946
END:VEVENT

END:VCALENDAR
