BEGIN:VCALENDAR
VERSION:2.0
PRODID:-//ChamberMaster//Event Calendar 2.0//EN
METHOD:PUBLISH
X-PUBLISHED-TTL:P3D
REFRESH-INTERVAL:P3D
CALSCALE:GREGORIAN
BEGIN:VEVENT
DTSTART:20250511T140000Z
DTEND:20250511T220000Z
X-MICROSOFT-CDO-ALLDAYEVENT:FALSE
SUMMARY:Celebrate Mother's Day with the Afton House Inn!
DESCRIPTION:Celebrate Mother's Day at the Historic Afton House Inn with your family and friends.\n\nA Fabulous Buffet will be served from 9am to 5:00 pm\n\n\n\nCall 651-436-8883 for Reservations.  Book Early as reservations fill up fast.
X-ALT-DESC;FMTTYPE=text/html:<span style="color:rgb(63\, 63\, 63)\; font-family:montserrat\,sans-serif\; font-size:16px">Celebrate Mother&#39\;s Day at the Historic Afton House Inn with your family and friends.</span><br />\n<span style="color:rgb(63\, 63\, 63)\; font-family:montserrat\,sans-serif\; font-size:16px">A Fabulous Buffet will be served from 9am to 5:00 pm</span><br />\n<br />\n<span style="color:rgb(63\, 63\, 63)\; font-family:montserrat\,sans-serif\; font-size:16px">Call 651-436-8883 for Reservations. &nbsp\;Book Early as reservations fill up fast.</span>
LOCATION:3291 St. Croix Trail S Afton MN 55001
UID:e.257.43386
SEQUENCE:3
DTSTAMP:20260422T074746Z
URL:https://greaterstillwaterchamber.com/events/details/celebrate-mother-s-day-with-the-afton-house-inn-43386
END:VEVENT

END:VCALENDAR
