BEGIN:VCALENDAR
VERSION:2.0
PRODID:-//ChamberMaster//Event Calendar 2.0//EN
METHOD:PUBLISH
X-PUBLISHED-TTL:P3D
REFRESH-INTERVAL:P3D
CALSCALE:GREGORIAN
BEGIN:VEVENT
DTSTART:20240830T200000Z
DTEND:20240831T020000Z
X-MICROSOFT-CDO-ALLDAYEVENT:FALSE
SUMMARY:Celebrate MN Wine Day!
DESCRIPTION:Spend your Friday with us and celebrate Minnesota Wine Day -- early!\n\nFriday\, August 30th\n\n 3-9pm\n\nMusic\, special tasting event\, all your favorite menu options and award winning 7 Vines wine!
X-ALT-DESC;FMTTYPE=text/html:<p><span style="font-size:16px"><span style="font-family:arial\,helvetica\,sans-serif"><span style="color:black">Spend your Friday with us and celebrate <strong>Minnesota Wine Day </strong>-- early!</span></span></span></p>\n\n<p><strong><span style="font-size:14px"><span style="font-family:arial\,helvetica\,sans-serif"><span style="color:black">Friday\, August 30th</span></span></span></strong></p>\n\n<p><strong><span style="font-size:14px"><span style="font-family:arial\,helvetica\,sans-serif"><span style="color:black">&nbsp\;3-9pm</span></span></span></strong></p>\n\n<p><span style="font-size:14px"><span style="font-family:arial\,helvetica\,sans-serif"><span style="color:black">Music\, special tasting event\, all your favorite menu options and award winning 7 Vines wine!</span></span></span></p>\n
LOCATION:7Vines Vineyard & Winery 101 Hwy 96 East Dellwood MN 55110
UID:e.257.38650
SEQUENCE:3
DTSTAMP:20260422T184619Z
URL:https://greaterstillwaterchamber.com/events/details/celebrate-mn-wine-day-38650
END:VEVENT

END:VCALENDAR
