BEGIN:VCALENDAR
VERSION:2.0
PRODID:-//ChamberMaster//Event Calendar 2.0//EN
METHOD:PUBLISH
X-PUBLISHED-TTL:P3D
REFRESH-INTERVAL:P3D
CALSCALE:GREGORIAN
BEGIN:VEVENT
DTSTART:20201030T220000Z
DTEND:20201031T010000Z
X-MICROSOFT-CDO-ALLDAYEVENT:FALSE
SUMMARY:Candy\, Carving\, and S'more!
DESCRIPTION:Family-friendly event! General Admission\n\nSocial Distancing Bar Service Available\n\nMasks Required Inside / Recommended\n\n\n\nOutside Pumpkin Carving\n\nScavenger Hunt\n\nTrick or Treating\n\nHay Rides\n\nHot Drinks\n\nS'mores Kits available for purchase\n\nBar will be open\n\nBonfires
X-ALT-DESC;FMTTYPE=text/html:Family-friendly event! General Admission<br />\nSocial Distancing Bar Service Available<br />\nMasks Required Inside / Recommended<br />\n<br />\nOutside Pumpkin Carving<br />\nScavenger Hunt<br />\nTrick or Treating<br />\nHay Rides<br />\nHot Drinks<br />\nS&rsquo\;mores Kits available for purchase<br />\nBar will be open<br />\nBonfires
LOCATION:Stillwater Zephyr Theatre
UID:e.257.31501
SEQUENCE:3
DTSTAMP:20260421T150947Z
URL:https://greaterstillwaterchamber.com/events/details/candy-carving-and-s-more-31501
END:VEVENT

END:VCALENDAR
