BEGIN:VCALENDAR
VERSION:2.0
PRODID:-//ChamberMaster//Event Calendar 2.0//EN
METHOD:PUBLISH
X-PUBLISHED-TTL:P3D
REFRESH-INTERVAL:P3D
CALSCALE:GREGORIAN
BEGIN:VEVENT
DTSTART:20231001T003000Z
DTEND:20231001T020000Z
X-MICROSOFT-CDO-ALLDAYEVENT:FALSE
SUMMARY:Cabaret Night: September Songs
DESCRIPTION:As the late sunsets of long days begin to fade\, and the harvest moon begins to shine\, come revel in the sounds of Summer and welcome Fall in all its splendor. Twin Cities vocalist Jennifer Eckes and friends will explore songs from Broadway and beyond\, singing of "when grass was green and grain was yellow" with tunes like "Autumn in New York"\, "September Song" and "The Colors of my Life".
X-ALT-DESC;FMTTYPE=text/html:<span style="font-size:16px\;">As the late sunsets of long days begin to fade\, and the harvest moon begins to shine\, come revel in the sounds of Summer and welcome Fall in all its splendor. Twin Cities vocalist Jennifer Eckes and friends will explore songs from Broadway and beyond\, singing of &ldquo\;when grass was green and grain was yellow&rdquo\; with tunes like &ldquo\;Autumn in New York&rdquo\;\, &ldquo\;September Song&rdquo\; and &ldquo\;The Colors of my Life&rdquo\;.</span>
LOCATION:The Phipps Center for the Arts 109 Locust St. Hudson\, WI 54016
UID:e.257.36572
SEQUENCE:3
DTSTAMP:20260423T053504Z
URL:https://greaterstillwaterchamber.com/events/details/cabaret-night-september-songs-36572
END:VEVENT

END:VCALENDAR
