BEGIN:VCALENDAR
VERSION:2.0
PRODID:-//ChamberMaster//Event Calendar 2.0//EN
METHOD:PUBLISH
X-PUBLISHED-TTL:P3D
REFRESH-INTERVAL:P3D
CALSCALE:GREGORIAN
BEGIN:VEVENT
DTSTART:20230213T010000Z
DTEND:20230213T030000Z
X-MICROSOFT-CDO-ALLDAYEVENT:FALSE
SUMMARY:Cabaret Night: I Got You\, Babe!
DESCRIPTION:Twin Cities cabaret vocalists Jennifer Eckes and Joey Clark present the lighter side of romance in an evening of time-honored love songs from jazz\, pop\, Broadway and Hollywood. Just right for a fun night out with your Valentine\, or with friends & loved ones\, you'll leave with a smile on your face and a song in your heart!
X-ALT-DESC;FMTTYPE=text/html:<span style="color:#000000"><span style="font-family:avenir-lt-w01_35-light1475496\,avenir-lt-w05_35-light\,sans-serif\; font-size:21px">Twin Cities cabaret vocalists Jennifer Eckes and Joey Clark present the lighter side of romance in an evening of time-honored love songs from jazz\, pop\, Broadway and Hollywood. Just right for a fun night out with your Valentine\, or with friends &amp\; loved ones\, you&rsquo\;ll leave with a smile on your face and a song in your heart!</span></span>
LOCATION:The Phipps Center for the Arts 109 Locust St. Hudson\, WI 54016
UID:e.257.35978
SEQUENCE:3
DTSTAMP:20260423T143039Z
URL:https://greaterstillwaterchamber.com/events/details/cabaret-night-i-got-you-babe-35978
END:VEVENT

END:VCALENDAR
