BEGIN:VCALENDAR
VERSION:2.0
PRODID:-//ChamberMaster//Event Calendar 2.0//EN
METHOD:PUBLISH
X-PUBLISHED-TTL:P3D
REFRESH-INTERVAL:P3D
CALSCALE:GREGORIAN
BEGIN:VEVENT
DTSTART:20240606T130000Z
DTEND:20240606T140000Z
X-MICROSOFT-CDO-ALLDAYEVENT:FALSE
SUMMARY:Business & Breakfast: Navigating Difficult Conversations in the Workplace
DESCRIPTION:Business & Breakfast: Navigating Difficult Conversations in The Workplace\n\nJoin us from the comfort of your own home or office for this online seminar.\n\nJoin Dr. Shawn Moore\, Director of Diversity\, Equity and Inclusion as he provides introduction discussion regarding navigation of difficult conversations as a leader.\n\nThis introduction session will focus on how as an organization leader you can strengthen your organization's communication culture and foster an environment of open dialogue\, addressing conflict constructively and promoting understanding among team members.\n\nThis event will be conducted via a zoom meeting.
X-ALT-DESC;FMTTYPE=text/html:<h1>Business &amp\; Breakfast: Navigating Difficult Conversations in The Workplace</h1>\n\n<h3>Join us from the comfort of your own home or office for this online seminar.</h3>\n\n<p>Join&nbsp\;<a href="https://eckberglammers.com/team-members/shawn-moore/" style="box-sizing: border-box\; overflow-wrap: break-word\; color: rgb(227\, 82\, 5)\; background-color: transparent\; cursor: pointer\; text-decoration-line: none\;">Dr. Shawn Moore</a>\, Director of Diversity\, Equity and Inclusion as he provides introduction discussion regarding navigation of difficult conversations as a leader.</p>\n\n<p>This introduction session will focus on how as an organization leader you can strengthen your organization&rsquo\;s communication culture and foster an environment of open dialogue\, addressing conflict constructively and promoting understanding among team members.</p>\n\n<h3>This event will be conducted via a zoom meeting.</h3>\n
LOCATION:This event will be conducted via a zoom meeting.
UID:e.257.37204
SEQUENCE:3
DTSTAMP:20260422T161034Z
URL:https://greaterstillwaterchamber.com/events/details/business-breakfast-navigating-difficult-conversations-in-the-workplace-37204
END:VEVENT

END:VCALENDAR
