BEGIN:VCALENDAR
VERSION:2.0
PRODID:-//ChamberMaster//Event Calendar 2.0//EN
METHOD:PUBLISH
X-PUBLISHED-TTL:P3D
REFRESH-INTERVAL:P3D
CALSCALE:GREGORIAN
BEGIN:VEVENT
DTSTART:20200402T124500Z
DTEND:20200402T140000Z
X-MICROSOFT-CDO-ALLDAYEVENT:FALSE
SUMMARY:POSTPONED (TBD) | Business & Breakfast: Hot Topics in Real Estate
DESCRIPTION:Hot Topics In Real Estate Law\n\nEckberg Lammers invites you to join us as our Real Estate and Business Law attorneys\, Nick Vivian and Tom Loonan\, discuss current and critical issues in Real Estate Law. They will explore the latest information relating to the commercial real estate industry in Minnesota & Wisconsin\, while providing practical application for the business owner. Topics discussed include:\n\n\n	\n	Buying vs. Leasing Commercial Real Estate\n	\n	\n	Partnering With Municipalities To Identify Commercial Real Estate Opportunities\n	\n	\n	Developing Raw Land\n	\n	\n	Rehabilitating Blighted Property\n	\n	\n	Financing Your Real Estate Acquisition\n	\n\n\nJoin us for networking\, coffee and a light breakfast starting at 7:45 a.m. followed by the presentation.\n\nSpace is limited so RSVP early. If you have any questions please contact us at contact@eckberglammers.com or by calling at (651) 439-2878.\n\nUpcoming 2020 Business & Breakfast Seminars:\n\n\n	\n	June 18th - Succession Planning for Your Business\n	\n	\n	September 17th - Attracting & Retaining Employees\n	\n	\n	November 12th - Taxes for the Business Owner
X-ALT-DESC;FMTTYPE=text/html:<h2><strong>Hot Topics In Real Estate Law</strong></h2>\n\n<p>Eckberg Lammers invites you to join us as our Real Estate and Business Law attorneys\, Nick Vivian and Tom Loonan\, discuss current and critical issues in Real Estate Law. They will explore the latest information relating to the commercial real estate industry in Minnesota &amp\; Wisconsin\, while providing practical application for the business owner. Topics discussed include:</p>\n\n<ul>\n	<li>\n	<p>Buying vs. Leasing Commercial Real Estate</p>\n	</li>\n	<li>\n	<p>Partnering With Municipalities To Identify Commercial Real Estate Opportunities</p>\n	</li>\n	<li>\n	<p>Developing Raw Land</p>\n	</li>\n	<li>\n	<p>Rehabilitating Blighted Property</p>\n	</li>\n	<li>\n	<p>Financing Your Real Estate Acquisition</p>\n	</li>\n</ul>\n\n<p>Join us for networking\, coffee and a light breakfast starting at 7:45 a.m. followed by the presentation.</p>\n\n<p>Space is limited so RSVP early. If you have any questions please contact us at contact@eckberglammers.com or by calling at (651) 439-2878.</p>\n\n<h3>Upcoming 2020 Business &amp\; Breakfast Seminars:</h3>\n\n<ul>\n	<li>\n	<p>June 18th - Succession Planning for Your Business</p>\n	</li>\n	<li>\n	<p>September 17th - Attracting &amp\; Retaining Employees</p>\n	</li>\n	<li>\n	<p>November 12th - Taxes for the Business Owner</p>\n	</li>\n</ul>\n
LOCATION:Water Street Inn\, 101 Water Street S\, Stillwater\, MN 55082
UID:e.257.30697
SEQUENCE:3
DTSTAMP:20260422T043646Z
URL:https://greaterstillwaterchamber.com/events/details/business-breakfast-hot-topics-in-real-estate-30697
END:VEVENT

END:VCALENDAR
