BEGIN:VCALENDAR
VERSION:2.0
PRODID:-//ChamberMaster//Event Calendar 2.0//EN
METHOD:PUBLISH
X-PUBLISHED-TTL:P3D
REFRESH-INTERVAL:P3D
CALSCALE:GREGORIAN
BEGIN:VEVENT
DTSTART:20250511T200000Z
DTEND:20250511T220000Z
X-MICROSOFT-CDO-ALLDAYEVENT:FALSE
SUMMARY:Breath Forth Into Singing!
DESCRIPTION:Celebrating the past and looking ahead to the future can be a joyful experience. It allows us to reflect on our achievements and milestones while also embracing the possibilities that lie ahead. For 50 years the VCC has sought to convey emotion and connect with others through music in a way that words often cannot.  The VCC will present favorite music from the past and present as we "Break Forth Into Singing!" to express gratitude for the past and excitement for what the future will bring.
X-ALT-DESC;FMTTYPE=text/html:Celebrating the past and looking ahead to the future can be a joyful experience. It allows us to reflect on our achievements and milestones while also embracing the possibilities that lie ahead. For 50 years the VCC has sought to convey emotion and connect with others through music in a way that words often cannot.&nbsp\; The VCC will present favorite music from the past and present as we &ldquo\;Break Forth Into Singing!&rdquo\; to express gratitude for the past and excitement for what the future will bring.&nbsp\;
LOCATION:Trinity Lutheran Church 115 4th Street N Stillwater\, MN 55082
UID:e.257.38691
SEQUENCE:3
DTSTAMP:20260422T073153Z
URL:https://greaterstillwaterchamber.com/events/details/breath-forth-into-singing-38691
END:VEVENT

END:VCALENDAR
