BEGIN:VCALENDAR
VERSION:2.0
PRODID:-//ChamberMaster//Event Calendar 2.0//EN
METHOD:PUBLISH
X-PUBLISHED-TTL:P3D
REFRESH-INTERVAL:P3D
CALSCALE:GREGORIAN
BEGIN:VEVENT
DTSTART:20241207T150000Z
DTEND:20241207T170000Z
X-MICROSOFT-CDO-ALLDAYEVENT:FALSE
SUMMARY:Breakfast With Santa Saturday December 7th\, 2024 9am-11am.
DESCRIPTION:Bring the kids for a delightful morning filled with joy and wonder! Join us for our annual Breakfast with Santa\, where children can share their holiday wishes\, enjoy a delicious breakfast\, and revel in the magic of the season here at the historic Afton House Inn. Call for reservations at (651)436-8883.
X-ALT-DESC;FMTTYPE=text/html:Bring the kids for a delightful morning filled with joy and wonder! Join us for our annual Breakfast with Santa\, where children can share their holiday wishes\, enjoy a delicious breakfast\, and revel in the magic of the season here at the historic Afton House Inn.&nbsp\;<span style="color:rgb(0\, 0\, 0)\; font-family:aptos\,aptos_embeddedfont\,aptos_msfontservice\,calibri\,helvetica\,sans-serif\; font-size:14.6667px">Call for reservations at (651)436-8883.</span>
LOCATION:Afton House Inn 3291 St. Croix Trail S. Afton\, MN\, 55001
UID:e.257.39747
SEQUENCE:3
DTSTAMP:20260422T145357Z
URL:https://greaterstillwaterchamber.com/events/details/breakfast-with-santa-saturday-december-7th-2024-9am-11am-39747
END:VEVENT

END:VCALENDAR
