BEGIN:VCALENDAR
VERSION:2.0
PRODID:-//ChamberMaster//Event Calendar 2.0//EN
METHOD:PUBLISH
X-PUBLISHED-TTL:P3D
REFRESH-INTERVAL:P3D
CALSCALE:GREGORIAN
BEGIN:VEVENT
DTSTART:20231202T150000Z
DTEND:20231202T170000Z
X-MICROSOFT-CDO-ALLDAYEVENT:FALSE
SUMMARY:Breakfast With Santa
DESCRIPTION:Breakfast with Santa\n\nWhen: Saturday\, December 2nd 9am-11am\n\nWhere: The Historical Afton House Inn (3291 St. Croix Trail S\, Afton MN 55001)\n\nCost: $15.95 per adult and $11.95 for Children 10 years and younger\n\n\n\nBuffet Menu: \n\nFresh Fruit\, Cereal\, Pastries & Muffins\n\nFrench Toast\n\nCheesy Hashbrowns\n\nScrambled Eggs & Egg Strata\n\nKielbasa & Sausage Links\n\nOrange Juice & Coffee\n\n\n\nReservations Required\, Call: 651-436-8883
X-ALT-DESC;FMTTYPE=text/html:<p><strong>Breakfast with Santa</strong></p>\n\n<p><strong>When:&nbsp\;</strong>Saturday\, December 2nd 9am-11am</p>\n\n<p><strong>Where:&nbsp\;</strong>The Historical Afton House Inn (3291 St. Croix Trail S\, Afton MN 55001)</p>\n\n<p><strong>Cost:&nbsp\;</strong>$15.95 per adult and $11.95 for Children 10 years and younger<br />\n<br />\n<strong>Buffet Menu:&nbsp\;</strong></p>\n\n<p>Fresh Fruit\, Cereal\, Pastries &amp\; Muffins</p>\n\n<p>French Toast</p>\n\n<p>Cheesy Hashbrowns</p>\n\n<p>Scrambled Eggs &amp\; Egg Strata</p>\n\n<p>Kielbasa &amp\; Sausage Links</p>\n\n<p>Orange Juice &amp\; Coffee<br />\n<br />\nReservations Required\, Call: 651-436-8883</p>\n
LOCATION:
UID:e.257.36666
SEQUENCE:3
DTSTAMP:20260423T003114Z
URL:https://greaterstillwaterchamber.com/events/details/breakfast-with-santa-12-02-2023-36666
END:VEVENT

END:VCALENDAR
