BEGIN:VCALENDAR
VERSION:2.0
PRODID:-//ChamberMaster//Event Calendar 2.0//EN
METHOD:PUBLISH
X-PUBLISHED-TTL:P3D
REFRESH-INTERVAL:P3D
CALSCALE:GREGORIAN
BEGIN:VEVENT
DTSTART:20230218T160000Z
DTEND:20230218T230000Z
X-MICROSOFT-CDO-ALLDAYEVENT:FALSE
SUMMARY:BodyLabUSA Holistic Healing & Wellness Fair
DESCRIPTION:Stillwater\, MN- We are coming to you on February 18th\, 2023 from 10AM-5PM at the Oak Glen Golf Course!! Come and enjoy a fantastic day full of amazing vendors that MAY include psychics\, mediums\, energy healers\, essential oils\, massage therapists\, crystals\, stones\, jewelry\, spiritual resources\, tarot cards and so much more! 4 speakers included in your $5 entry! Family friendly event. We will also have a group gallery event with Dr. Michele L. Jacobson\, PhD as well free gift bags to our first 25 guests through the door. So be sure to come and enjoy a fun filled and educational day!
X-ALT-DESC;FMTTYPE=text/html:Stillwater\, MN- We are coming to you on February 18th\, 2023 from 10AM-5PM at the Oak Glen Golf Course!! Come and enjoy a fantastic day full of amazing vendors that MAY include psychics\, mediums\, energy healers\, essential oils\, massage therapists\, crystals\, stones\, jewelry\, spiritual resources\, tarot cards and so much more! 4 speakers included in your $5 entry! Family friendly event. We will also have a group gallery event with Dr. Michele L. Jacobson\, PhD as well free gift bags to our first 25 guests through the door. So be sure to come and enjoy a fun filled and educational day!
LOCATION:Oak Glen Golf Course & Banquet Facility 1599 McKusick Rd N\, Stillwater\, MN\, United States\, Minnesota
UID:e.257.35980
SEQUENCE:3
DTSTAMP:20260423T154308Z
URL:https://greaterstillwaterchamber.com/events/details/bodylabusa-holistic-healing-wellness-fair-35980
END:VEVENT

END:VCALENDAR
