BEGIN:VCALENDAR
VERSION:2.0
PRODID:-//ChamberMaster//Event Calendar 2.0//EN
METHOD:PUBLISH
X-PUBLISHED-TTL:P3D
REFRESH-INTERVAL:P3D
CALSCALE:GREGORIAN
BEGIN:VEVENT
DTSTART:20231001T173000Z
DTEND:20231001T210000Z
X-MICROSOFT-CDO-ALLDAYEVENT:FALSE
SUMMARY:BBQ\, Blues & State of Hocke Red Wine Release!
DESCRIPTION:Join us for Live Music with PK Mayo (Blues hall of famer)\, a BBQ Buffet catered by Creative Catering\, and a 5 token our Sample Bar with a tasting of 5 wines including the NEW State of Hockey Red wine release! Hockey legends will be present\, and each bottle purchase of the State of Hockey Red gives back to the Herb Brooks Foundation. \nTickets valid 12:30-4pm/Open House style   \n\n\n\nTickets limited - purchase early online $45 . Day of Tickets\, $50
X-ALT-DESC;FMTTYPE=text/html:<span style="font-size:14px">Join us for <strong>Live Music</strong> with PK Mayo (Blues hall of famer)\, a <strong>BBQ Buffet</strong> catered by Creative Catering\, and a 5 token our <strong>Sample Bar </strong>with a tasting of 5 wines including the <strong>NEW State of Hockey Red wine release</strong>! Hockey legends will be present\, and each bottle purchase of the State of Hockey Red gives back to the Herb Brooks Foundation.&nbsp\;</span>\n<p><span style="font-size:14px">Tickets valid 12:30-4pm/Open House style&nbsp\; &nbsp\;<br />\n<br />\nTickets limited - purchase early online $45 . Day of Tickets\, $50</span></p>\n
LOCATION:7 Vines Vineyard 101 Hwy 96 E Dellwood MN 55110
UID:e.257.36577
SEQUENCE:3
DTSTAMP:20260423T054133Z
URL:https://greaterstillwaterchamber.com/events/details/bbq-blues-state-of-hocke-red-wine-release-36577
END:VEVENT

END:VCALENDAR
