BEGIN:VCALENDAR
VERSION:2.0
PRODID:-//ChamberMaster//Event Calendar 2.0//EN
METHOD:PUBLISH
X-PUBLISHED-TTL:P3D
REFRESH-INTERVAL:P3D
CALSCALE:GREGORIAN
BEGIN:VEVENT
DTSTART:20231118T150000Z
DTEND:20231118T210000Z
X-MICROSOFT-CDO-ALLDAYEVENT:FALSE
SUMMARY:Bayport Harvest Fest
DESCRIPTION:Join us for Bayport's Harvest Fest!\n\n\n\nFresh Designer Wreaths\n\nGifts-to-go Auction & 50/50 Raffle\n\nBake Shoppe\n\nLocal Artisans & Musicians\n\nAll-you-can-eat Soup and Bread Lunch\n\n\n\nHarvest Fest is a family-friendly event created to support A United Church's programs focused on arts\, environment\, social justice\, inclusivity\, and collaboration with other organizations in the St. Croix Valley.
X-ALT-DESC;FMTTYPE=text/html:Join us for Bayport&#39\;s Harvest Fest!<br />\n<br />\nFresh Designer Wreaths<br />\nGifts-to-go Auction &amp\; 50/50 Raffle<br />\nBake Shoppe<br />\nLocal Artisans &amp\; Musicians<br />\nAll-you-can-eat Soup and Bread Lunch<br />\n<br />\nHarvest Fest is a family-friendly event created to support A United Church&rsquo\;s programs focused on arts\, environment\, social justice\, inclusivity\, and collaboration with other organizations in the St. Croix Valley.
LOCATION:A United Church (formerly People's Congregational Church) 309 N Third St Bayport\, MN 55003
UID:e.257.36643
SEQUENCE:3
DTSTAMP:20260423T025100Z
URL:https://greaterstillwaterchamber.com/events/details/bayport-harvest-fest-36643
END:VEVENT

END:VCALENDAR
