BEGIN:VCALENDAR
VERSION:2.0
PRODID:-//ChamberMaster//Event Calendar 2.0//EN
METHOD:PUBLISH
X-PUBLISHED-TTL:P3D
REFRESH-INTERVAL:P3D
CALSCALE:GREGORIAN
BEGIN:VEVENT
DTSTART:20250911T200000Z
DTEND:20250912T000000Z
X-MICROSOFT-CDO-ALLDAYEVENT:FALSE
SUMMARY:Bayport Bash - A Community Celebration!
DESCRIPTION:Get ready for a day of fun\, food\, and festivities as our highly-anticipated Bayport Bash makes its annual return on Thursday\, September 11\, 2025! Hosted at our Bayport branch\, this community appreciation event is our way of saying thank you to the incredible community that makes our town so special.\n\n\n\nFrom 3:00 PM to 7:00 PM\, attendees can enjoy a variety of family-friendly activities\, music\, and delicious bites from a local food truck. Whether you're looking to groove to the beat\, play games with the kids\, or simply relax and connect with neighbors\, the Bayport Bash has something for everyone.\n\n \n\nEvent Highlights:\n\n	Food: Delicious local Port Belly's out of Son's Deli.\n	Ice Cream: A variety of Ice Cream from Mabel's Ice Cream & Coffee Shop.\n	Music: Enjoy music from radio station WDGY to get you dancing.\n	All-Ages Activities: Rides from Limitless Cycling\, games\, and interactive entertainment for kids and adults alike.\n\nDon't miss out on this exciting annual tradition. Bring your family\, bring your friends\, and let's make memories together!\n\n\n\nLocation: 950 Highway 95 N\, Bayport\, MN 55003\n\nDate: Thursday\, September 11\, 2025\n\nTime: 3:00 PM - 7:00 PM\n\n\n\nFor more information\, visit FSBT.com or our Facebook page.
X-ALT-DESC;FMTTYPE=text/html:Get ready for a day of fun\, food\, and festivities as our highly-anticipated Bayport Bash makes its annual return on Thursday\, September 11\, 2025! Hosted at our Bayport branch\, this community appreciation event is our way of saying thank you to the incredible community that makes our town so special.<br />\n<br />\nFrom 3:00 PM to 7:00 PM\, attendees can enjoy a variety of family-friendly activities\, music\, and delicious bites from a local food truck. Whether you&#39\;re looking to groove to the beat\, play games with the kids\, or simply relax and connect with neighbors\, the Bayport Bash has something for everyone.<br />\n&nbsp\;<br />\n<strong>Event Highlights:</strong>\n<ul>\n	<li><strong>Food: </strong>Delicious local Port Belly&#39\;s out of Son&#39\;s Deli.</li>\n	<li><strong>Ice Cream:</strong> A variety of Ice Cream from Mabel&rsquo\;s Ice Cream &amp\; Coffee Shop.</li>\n	<li><strong>Music:</strong> Enjoy music from radio station WDGY to get you dancing.</li>\n	<li><strong>All-Ages Activities:</strong>&nbsp\;Rides from Limitless Cycling\, games\, and interactive entertainment for kids and adults alike.</li>\n</ul>\nDon&#39\;t miss out on this exciting annual tradition. Bring your family\, bring your friends\, and let&#39\;s make memories together!<br />\n<br />\n<strong>Location:</strong> 950 Highway 95 N\, Bayport\, MN 55003<br />\n<strong>Date:</strong> Thursday\, September 11\, 2025<br />\n<strong>Time:</strong> 3:00 PM - 7:00 PM<br />\n<br />\nFor more information\, visit <a href="https://www.fsbt.com/investments/trusts-and-estates">FSBT.com</a> or our <a href="https://www.facebook.com/events/1259211935856923/?acontext=%7B%22event_action_history%22%3A%5b%7B%22mechanism%22%3A%22calendar_tab_event%22%2C%22surface%22%3A%22bookmark_calendar%22%7D%5d%2C%22ref_notif_type%22%3Anull%7D">Facebook page</a>.
LOCATION:First State Bank and Trust
UID:e.257.43898
SEQUENCE:3
DTSTAMP:20260422T010048Z
URL:https://greaterstillwaterchamber.com/events/details/bayport-bash-a-community-celebration-43898
END:VEVENT

END:VCALENDAR
