BEGIN:VCALENDAR
VERSION:2.0
PRODID:-//ChamberMaster//Event Calendar 2.0//EN
METHOD:PUBLISH
X-PUBLISHED-TTL:P3D
REFRESH-INTERVAL:P3D
CALSCALE:GREGORIAN
BEGIN:VEVENT
DTSTART:20231007T150000Z
DTEND:20231007T190000Z
X-MICROSOFT-CDO-ALLDAYEVENT:FALSE
SUMMARY:Baubles\, Bangles & Bling Boutique
DESCRIPTION:Shop for new & gently used jewelry (costume & fine jewelry)\, handbags and scarves. Inventory is always new and exciting each year! Your shopping supports our community!\n\n\n\nThursday\, October 5  from 4 - 7 pm\n\nFriday\, October 6 from 10 am - 4 pm\n\nSaturday\, October 7 from 10 am - 2 pm\n\n\n\nCash\, check or credit accepted.  Free and open to all.
X-ALT-DESC;FMTTYPE=text/html:<span style="color:rgb(0\, 0\, 0)\; font-family:google sans\,varela round\,open sans\,sans-serif\; font-size:18px">Shop for new &amp\; gently used jewelry (costume &amp\; fine jewelry)\, handbags and scarves. Inventory is always new and exciting each year! Your shopping supports our community!</span><br />\n<br />\n<span style="color:rgb(0\, 0\, 0)\; font-family:google sans\,varela round\,open sans\,sans-serif\; font-size:18px">Thursday\, October 5&nbsp\; from 4 - 7 pm</span><br />\n<span style="color:rgb(0\, 0\, 0)\; font-family:google sans\,varela round\,open sans\,sans-serif\; font-size:18px">Friday\, October 6 from 10 am - 4 pm</span><br />\n<span style="color:rgb(0\, 0\, 0)\; font-family:google sans\,varela round\,open sans\,sans-serif\; font-size:18px">Saturday\, October 7 from 10 am - 2 pm</span><br />\n<br />\n<span style="color:rgb(0\, 0\, 0)\; font-family:google sans\,varela round\,open sans\,sans-serif\; font-size:18px">Cash\, check or credit accepted.&nbsp\; Free and open to all.</span>
LOCATION:Community Thread\, 2300 Orleans St. W.\, Stillwater\, MN 550082
UID:e.257.36580
SEQUENCE:3
DTSTAMP:20260423T041157Z
URL:https://greaterstillwaterchamber.com/events/details/baubles-bangles-bling-boutique-10-07-2023-36580
END:VEVENT

END:VCALENDAR
