BEGIN:VCALENDAR
VERSION:2.0
PRODID:-//ChamberMaster//Event Calendar 2.0//EN
METHOD:PUBLISH
X-PUBLISHED-TTL:P3D
REFRESH-INTERVAL:P3D
CALSCALE:GREGORIAN
BEGIN:VEVENT
DTSTART:20251107T003000Z
DTEND:20251107T023000Z
X-MICROSOFT-CDO-ALLDAYEVENT:FALSE
SUMMARY:Anti-Trafficking Community Education: Power Over Predators (POP) Series
DESCRIPTION:C.A.S.T. prevents exploitation in the Twin Cities and Western WI through education\, awareness\, and collaboration. Our largest and fastest growing program is Power Over Predators (POP) - a nationwide curriculum that teaches middle and high school students internet safety\, healthy vs. unhealthy relationships\, and how to ask for help if you need it.\n\n\n\nLast year we taught 4\,700+ students POP materials and we want to bring it to YOU! Want to experience the Power Over Predators (POP) curriculum that C.A.S.T. presents to middle and high school students?\n\n\n\nJoin us for 2 nights where we present 4 lessons of Power Over Predators! Each lesson is independent\, so you can join for one or you can join for all. These presentations are free and open to the public. ?\n\n\n\nLessons on Day 1: Thursday\, November 6 from 6:30pm-8:30pm\n\n  Your Goals Matter\n\n  10 minute break\n\n  Your Relationships Matter\n\n\n\nLessons on Day 2: Thursday\, November 13 from 6:30pm-8:30pm\n\n  Your Story Matters\n\n  10 minute break\n\n  Your Brain Matters\n\n\n\nWe will be starting the presentations at 6:30pm\, we encourage you to come a few minutes early to grab a seat!
X-ALT-DESC;FMTTYPE=text/html:C.A.S.T. prevents exploitation in the Twin Cities and Western WI through education\, awareness\, and collaboration. Our largest and fastest growing program is Power Over Predators (POP) - a nationwide curriculum that teaches middle and high school students internet safety\, healthy vs. unhealthy relationships\, and how to ask for help if you need it.<br />\n<br />\n<strong>Last year we taught 4\,700+ students POP materials and we want to bring it to YOU!&nbsp\;</strong>Want to experience the Power Over Predators (POP) curriculum that C.A.S.T. presents to middle and high school students?<br />\n<br />\n<span style="color:rgb(68\, 64\, 64)\; font-family:arial\,helvetica\,sans-serif">Join us for 2 nights where we present 4 lessons of Power Over Predators! Each lesson is independent\, so you can join for one or you can join for all. These presentations are free and open to the public. ?</span><br />\n<br />\n<strong><span style="color:rgb(68\, 64\, 64)\; font-family:arial\,helvetica\,sans-serif">Lessons on Day 1: Thursday\, November 6 from 6:30pm-8:30pm</span></strong><br />\n<span style="color:rgb(68\, 64\, 64)\; font-family:arial\,helvetica\,sans-serif">&mdash\; Your Goals Matter</span><br />\n<span style="color:rgb(68\, 64\, 64)\; font-family:arial\,helvetica\,sans-serif">&mdash\; 10 minute break</span><br />\n<span style="color:rgb(68\, 64\, 64)\; font-family:arial\,helvetica\,sans-serif">&mdash\; Your Relationships Matter</span><br />\n<br />\n<strong><span style="color:rgb(68\, 64\, 64)\; font-family:arial\,helvetica\,sans-serif">Lessons on Day 2: Thursday\, November 13 from 6:30pm-8:30pm</span></strong><br />\n<span style="color:rgb(68\, 64\, 64)\; font-family:arial\,helvetica\,sans-serif">&mdash\; Your Story Matters</span><br />\n<span style="color:rgb(68\, 64\, 64)\; font-family:arial\,helvetica\,sans-serif">&mdash\; 10 minute break</span><br />\n<span style="color:rgb(68\, 64\, 64)\; font-family:arial\,helvetica\,sans-serif">&mdash\; Your Brain Matters</span><br />\n<br />\n<span style="color:rgb(68\, 64\, 64)\; font-family:arial\,helvetica\,sans-serif">We will be starting the presentations at 6:30pm\, we encourage you to come a few minutes early to grab a seat!&nbsp\;</span>
LOCATION:Location: East Ridge High School 4200 Pioneer Dr\, Woodbury\, MN 55129 Specific classroom TBD\, but we will have signs and possibly volunteers directing you to the right room.
UID:e.257.46414
SEQUENCE:3
DTSTAMP:20260421T215840Z
URL:https://greaterstillwaterchamber.com/events/details/anti-trafficking-community-education-power-over-predators-pop-series-46414
END:VEVENT

END:VCALENDAR
