BEGIN:VCALENDAR
VERSION:2.0
PRODID:-//ChamberMaster//Event Calendar 2.0//EN
METHOD:PUBLISH
X-PUBLISHED-TTL:P3D
REFRESH-INTERVAL:P3D
CALSCALE:GREGORIAN
BEGIN:VEVENT
DTSTART:20240101T010000Z
DTEND:20240101T040000Z
X-MICROSOFT-CDO-ALLDAYEVENT:FALSE
SUMMARY:An 'ABBAsolutly Fab' New Years Eve Celebration
DESCRIPTION:an all-star lineup of stellar Twin Cities and British musicians performing the songs of pop/disco supergroup\, ABBA!\n\nTake a Chance and join us!\n\nIt's your turn to be a Dancing Queen!
X-ALT-DESC;FMTTYPE=text/html:<h3>an all-star lineup of stellar Twin Cities and British musicians performing the songs of pop/disco supergroup\, ABBA!</h3>\n\n<h3>Take a Chance and join us!</h3>\n\n<h3>It&rsquo\;s your turn to be a Dancing Queen!</h3>\n
LOCATION:
UID:e.257.36637
SEQUENCE:3
DTSTAMP:20260423T003206Z
URL:https://greaterstillwaterchamber.com/events/details/an-abbasolutly-fab-new-years-eve-celebration-36637
END:VEVENT

END:VCALENDAR
