BEGIN:VCALENDAR
VERSION:2.0
PRODID:-//ChamberMaster//Event Calendar 2.0//EN
METHOD:PUBLISH
X-PUBLISHED-TTL:P3D
REFRESH-INTERVAL:P3D
CALSCALE:GREGORIAN
BEGIN:VEVENT
DTSTART:20250811T230000Z
DTEND:20250812T010000Z
X-MICROSOFT-CDO-ALLDAYEVENT:FALSE
SUMMARY:Afton Bayport Lakeland Lions Club Meeting
DESCRIPTION:Join us for our monthly club meeting to learn more about what we do for the community. We'd love to meet you!
X-ALT-DESC;FMTTYPE=text/html:Join us for our monthly club meeting to learn more about what we do for the community. We&#39\;d love to meet you!
LOCATION:Bayport Public Library 582 4th St N Bayport\, MN 55003
UID:e.257.43897
SEQUENCE:3
DTSTAMP:20260422T025250Z
URL:https://greaterstillwaterchamber.com/events/details/afton-bayport-lakeland-lions-club-meeting-08-11-2025-43897
END:VEVENT

END:VCALENDAR
