BEGIN:VCALENDAR
VERSION:2.0
PRODID:-//ChamberMaster//Event Calendar 2.0//EN
METHOD:PUBLISH
X-PUBLISHED-TTL:P3D
REFRESH-INTERVAL:P3D
CALSCALE:GREGORIAN
BEGIN:VEVENT
DTSTART:20250315T160000Z
DTEND:20250317T010000Z
X-MICROSOFT-CDO-ALLDAYEVENT:FALSE
SUMMARY:2025 St. Patrick's Dinner
DESCRIPTION:"According to your votes\, Stillwater's Gasthaus Bavarian Hunter German restaurant serves the best corned beef and cabbage in Minnesota  " (2015 WCCO Viewers' Choice For Best Corned Beef In Minnesota). Make sure to get your reservations in for March 15th and 16th to eat some of the best corned beef and cabbage in the entire state for just $24! (We will be closed on St. Patrick's Day\, Monday\, March 17th.)
X-ALT-DESC;FMTTYPE=text/html:&quot\;According to your votes\, Stillwater&rsquo\;s Gasthaus Bavarian Hunter German restaurant serves the best corned beef and cabbage in Minnesota &hellip\;&rdquo\; (2015 WCCO Viewers&rsquo\; Choice For Best Corned Beef In Minnesota). Make sure to get your reservations in for March 15th and 16th to eat some of the best corned beef and cabbage in the entire state for just $24! (We will be closed on St. Patrick&rsquo\;s Day\, Monday\, March 17th.)
LOCATION:Gasthaus Bavarian Hunter 8390 Lofton Ave N Stillwater\, MN 55082
UID:e.257.42550
SEQUENCE:3
DTSTAMP:20260419T143840Z
URL:https://greaterstillwaterchamber.com/events/details/2025-st-patrick-s-dinner-42550
END:VEVENT

END:VCALENDAR
