BEGIN:VCALENDAR
VERSION:2.0
PRODID:-//ChamberMaster//Event Calendar 2.0//EN
METHOD:PUBLISH
X-PUBLISHED-TTL:P3D
REFRESH-INTERVAL:P3D
CALSCALE:GREGORIAN
BEGIN:VEVENT
DTSTART:20250306T050000Z
DTEND:20250419T010000Z
X-MICROSOFT-CDO-ALLDAYEVENT:FALSE
SUMMARY:2025 Fastenfischspezial
DESCRIPTION:Join us at the Gasthaus on Aschermittwochen (Ash Wednesday\, March 5th) and every Friday during Lent thru and including Karfreitag (Good Friday\, April 18th). Our Lenten fish special is three healthy pieces of Kabeljau (cod) served alongside Kartoffelbrei (mashed potatoes) and Krautsalat (coleslaw) all for just $24!
X-ALT-DESC;FMTTYPE=text/html:Join us at the Gasthaus on Aschermittwochen (Ash Wednesday\, March 5th) and every Friday during Lent thru and including Karfreitag (Good Friday\, April 18th). Our Lenten fish special is three healthy pieces of Kabeljau (cod) served alongside Kartoffelbrei (mashed potatoes) and Krautsalat (coleslaw) all for just $24!
LOCATION:Gasthaus Bavarian Hunter 8390 Lofton Ave N Stillwater\, MN 55082
UID:e.257.42552
SEQUENCE:3
DTSTAMP:20260421T081108Z
URL:https://greaterstillwaterchamber.com/events/details/2025-fastenfischspezial-42552
END:VEVENT

END:VCALENDAR
