BEGIN:VCALENDAR
VERSION:2.0
PRODID:-//ChamberMaster//Event Calendar 2.0//EN
METHOD:PUBLISH
X-PUBLISHED-TTL:P3D
REFRESH-INTERVAL:P3D
CALSCALE:GREGORIAN
BEGIN:VEVENT
DTSTART:20241215T160000Z
DTEND:20241215T203000Z
X-MICROSOFT-CDO-ALLDAYEVENT:FALSE
SUMMARY:2024 Santa Buffet
DESCRIPTION:Enjoy our delicious all you can eat Christmas buffet with Santa and your family for only $28 per person! The first seating is at 10:00am\, and final seating is at 2:30pm with an accordionist strolling around our dining rooms for your pleasure. Reservations are required\, so call 651-439-7128 to make yours today!
X-ALT-DESC;FMTTYPE=text/html:Enjoy our delicious all you can eat Christmas buffet with Santa and your family for only $28 per person! The first seating is at 10:00am\, and final seating is at 2:30pm with an accordionist strolling around our dining rooms for your pleasure. Reservations are required\, so call 651-439-7128 to make yours today!
LOCATION:Gasthaus Bavarian Hunter 8390 Lofton Ave N Stillwater\, MN 55082
UID:e.257.38937
SEQUENCE:3
DTSTAMP:20260422T172938Z
URL:https://greaterstillwaterchamber.com/events/details/2024-santa-buffet-38937
END:VEVENT

END:VCALENDAR
