BEGIN:VCALENDAR
VERSION:2.0
PRODID:-//ChamberMaster//Event Calendar 2.0//EN
METHOD:PUBLISH
X-PUBLISHED-TTL:P3D
REFRESH-INTERVAL:P3D
CALSCALE:GREGORIAN
BEGIN:VEVENT
DTSTART:20240913T170000Z
DTEND:20240922T220000Z
X-MICROSOFT-CDO-ALLDAYEVENT:FALSE
SUMMARY:2024 Oktoberfest
DESCRIPTION:From Paulaner\, Hacker-Pschorr\, and Hofbr u beers imported directly from Munich Germany to roasted almonds and Hammer-Schalgen \, the most anticipated fall festival in Minnesota returns! Gates open on Fridays and Saturdays from 5pm to 10pm (21+ only) and on Sundays from noon to 6pm (all ages welcome).
X-ALT-DESC;FMTTYPE=text/html:From Paulaner\, Hacker-Pschorr\, and Hofbr&auml\;u beers imported directly from Munich Germany to roasted almonds and Hammer-Schalgen&reg\;\, the most anticipated fall festival in Minnesota returns! Gates open on Fridays and Saturdays from 5pm to 10pm (21+ only) and on Sundays from noon to 6pm (all ages welcome).
LOCATION:Gasthaus Bavarian Hunter 8390 Lofton Ave N Stillwater\, MN 55082
UID:e.257.38648
SEQUENCE:3
DTSTAMP:20260422T214007Z
URL:https://greaterstillwaterchamber.com/events/details/2024-oktoberfest-38648
END:VEVENT

END:VCALENDAR
