BEGIN:VCALENDAR
VERSION:2.0
PRODID:-//ChamberMaster//Event Calendar 2.0//EN
METHOD:PUBLISH
X-PUBLISHED-TTL:P3D
REFRESH-INTERVAL:P3D
CALSCALE:GREGORIAN
BEGIN:VEVENT
DTSTART:20201114T010000Z
DTEND:20201114T020000Z
X-MICROSOFT-CDO-ALLDAYEVENT:FALSE
SUMMARY:1st Annual Chesterton Academy of the St. Croix Valley Soiree
DESCRIPTION:Join us for our first Chesterton Academy of the St Croix Valley Soiree...turned virtual. The event will be streamed live where you'll see our student choir perform\, an introduction to our first ever Headmaster (Dr. Stephen Hipp)\, a Chesterton live event staple: the Senior Speeches given by one male and one female senior\, and a very special guest all the way from Montreal\, Canada\, singer soprano Christine B. Williams will perform with our student choir!\n\n\n\nDon't miss this one-of-a-kind virtual event like you've never seen before! The event will be hosted by Jim Cunningham and Rusty Kath.\n\n\n\nTune in on our Chesterton Academy of the St. Croix Valley YouTube and Facebook pages\, bidpal.net/CASCV. or watch the broadcast on VACTV.
X-ALT-DESC;FMTTYPE=text/html:Join us for our first Chesterton Academy of the St Croix Valley Soiree...turned virtual. The event will be streamed live where you&#39\;ll see our student choir perform\, an introduction to our first ever Headmaster (Dr. Stephen Hipp)\, a Chesterton live event staple: the Senior Speeches given by one male and one female senior\, and a very special guest all the way from Montreal\, Canada\, singer soprano Christine B. Williams will perform with our student choir!<br />\n<br />\nDon&#39\;t miss this one-of-a-kind virtual event like you&#39\;ve never seen before! The event will be hosted by Jim Cunningham and Rusty Kath.<br />\n<br />\nTune in on our Chesterton Academy of the St. Croix Valley YouTube and Facebook pages\, <a href="http://bidpal.net/CASCV">bidpal.net/CASCV</a>. or watch the broadcast on VACTV.
LOCATION:1835 Northwestern Avenue Stillwater\, MN 55082
UID:e.257.31508
SEQUENCE:3
DTSTAMP:20260421T140101Z
URL:https://greaterstillwaterchamber.com/events/details/1st-annual-chesterton-academy-of-the-st-croix-valley-soiree-31508
END:VEVENT

END:VCALENDAR
